BEGIN:VCALENDAR
VERSION:2.0
PRODID:-//evangelische Kirchengemeinde Tann - ECPv6.15.20//NONSGML v1.0//EN
CALSCALE:GREGORIAN
METHOD:PUBLISH
X-WR-CALNAME:evangelische Kirchengemeinde Tann
X-ORIGINAL-URL:https://www.kirche-tann.de
X-WR-CALDESC:Veranstaltungen für evangelische Kirchengemeinde Tann
REFRESH-INTERVAL;VALUE=DURATION:PT1H
X-Robots-Tag:noindex
X-PUBLISHED-TTL:PT1H
BEGIN:VTIMEZONE
TZID:Europe/Berlin
BEGIN:DAYLIGHT
TZOFFSETFROM:+0100
TZOFFSETTO:+0200
TZNAME:CEST
DTSTART:20250330T010000
END:DAYLIGHT
BEGIN:STANDARD
TZOFFSETFROM:+0200
TZOFFSETTO:+0100
TZNAME:CET
DTSTART:20251026T010000
END:STANDARD
BEGIN:DAYLIGHT
TZOFFSETFROM:+0100
TZOFFSETTO:+0200
TZNAME:CEST
DTSTART:20260329T010000
END:DAYLIGHT
BEGIN:STANDARD
TZOFFSETFROM:+0200
TZOFFSETTO:+0100
TZNAME:CET
DTSTART:20261025T010000
END:STANDARD
BEGIN:DAYLIGHT
TZOFFSETFROM:+0100
TZOFFSETTO:+0200
TZNAME:CEST
DTSTART:20270328T010000
END:DAYLIGHT
BEGIN:STANDARD
TZOFFSETFROM:+0200
TZOFFSETTO:+0100
TZNAME:CET
DTSTART:20271031T010000
END:STANDARD
END:VTIMEZONE
BEGIN:VEVENT
DTSTART;TZID=Europe/Berlin:20260201T180000
DTEND;TZID=Europe/Berlin:20260201T190000
DTSTAMP:20260420T105445
CREATED:20251126T083306Z
LAST-MODIFIED:20260122T150031Z
UID:5960-1769968800-1769972400@www.kirche-tann.de
SUMMARY:Theobaldshof
DESCRIPTION:Lichtergottesdienst in Theobaldshof mit Pfarrer Klaus-Dieter Inerle und dem Kindergottesdienst
URL:https://www.kirche-tann.de/veranstaltung/theobaldshof-9/
LOCATION:Kirche Theobaldshof\, Friedhof Theobaldshof\, Theobaldshof\, Hessen\, 36142\, Deutschland
CATEGORIES:Gottesdienst
ATTACH;FMTTYPE=image/jpeg:https://www.kirche-tann.de/wp-content/uploads/2025/11/Lichtergodi-1.02.2026.jpg
END:VEVENT
BEGIN:VEVENT
DTSTART;TZID=Europe/Berlin:20260208T090000
DTEND;TZID=Europe/Berlin:20260208T100000
DTSTAMP:20260420T105445
CREATED:20251126T083422Z
LAST-MODIFIED:20251126T083422Z
UID:5962-1770541200-1770544800@www.kirche-tann.de
SUMMARY:Habel
DESCRIPTION:Gottesdienst in Habel mit Pfarrer Klaus-Dieter Inerle
URL:https://www.kirche-tann.de/veranstaltung/habel-15/
LOCATION:Kirche Habel\, Kirchweg\, Habel\, Hessen\, 36142\, Deutschland
CATEGORIES:Gottesdienst
ATTACH;FMTTYPE=image/jpeg:https://www.kirche-tann.de/wp-content/uploads/2022/11/Kirche-Tann_Kirchen_Kirche-Habel-scaled.jpg
END:VEVENT
BEGIN:VEVENT
DTSTART;TZID=Europe/Berlin:20260208T100000
DTEND;TZID=Europe/Berlin:20260208T110000
DTSTAMP:20260420T105445
CREATED:20251126T083451Z
LAST-MODIFIED:20251126T083451Z
UID:5964-1770544800-1770548400@www.kirche-tann.de
SUMMARY:Tann - Niklaskirche
DESCRIPTION:Gottesdienst in der Niklaskirche Tann mit Pfarrer Klaus-Dieter Inerle
URL:https://www.kirche-tann.de/veranstaltung/tann-niklaskirche-6/
LOCATION:Niklaskirche Tann\, Niklaskirche\, Tann\, Hessen\, 36142\, Deutschland
CATEGORIES:Gottesdienst
ATTACH;FMTTYPE=image/jpeg:https://www.kirche-tann.de/wp-content/uploads/2022/11/Kirche-Tann_Kirchen_Niklaskirche_Galerie-3-scaled.jpg
END:VEVENT
BEGIN:VEVENT
DTSTART;TZID=Europe/Berlin:20260208T110000
DTEND;TZID=Europe/Berlin:20260208T120000
DTSTAMP:20260420T105445
CREATED:20251126T083517Z
LAST-MODIFIED:20251126T083517Z
UID:5966-1770548400-1770552000@www.kirche-tann.de
SUMMARY:Neuswarts
DESCRIPTION:Gottesdienst in Neuswarts mit Pfarrer Klaus-Dieter Inerle \n 
URL:https://www.kirche-tann.de/veranstaltung/neuswarts-12/
LOCATION:Kirche Neuswarts\, Thüringer Str. 14-20\, Neuswarts\, Hessen\, 36142\, Deutschland
CATEGORIES:Gottesdienst
ATTACH;FMTTYPE=image/jpeg:https://www.kirche-tann.de/wp-content/uploads/2022/11/Kirche-Tann_Kirchen_Kirche-Neuswarts_Galerie-9.jpg
END:VEVENT
BEGIN:VEVENT
DTSTART;TZID=Europe/Berlin:20260215T100000
DTEND;TZID=Europe/Berlin:20260215T110000
DTSTAMP:20260420T105445
CREATED:20251126T083554Z
LAST-MODIFIED:20251126T083554Z
UID:5968-1771149600-1771153200@www.kirche-tann.de
SUMMARY:Tann - Niklaskirche
DESCRIPTION:Kirchspiel-Gottesdienst in der Niklaskirche Tann mit Lektoren Fischer
URL:https://www.kirche-tann.de/veranstaltung/tann-niklaskirche-7/
LOCATION:Niklaskirche Tann\, Niklaskirche\, Tann\, Hessen\, 36142\, Deutschland
CATEGORIES:Gottesdienst
ATTACH;FMTTYPE=image/jpeg:https://www.kirche-tann.de/wp-content/uploads/2022/11/Kirche-Tann_Kirchen_Niklaskirche_Galerie-3-scaled.jpg
END:VEVENT
BEGIN:VEVENT
DTSTART;TZID=Europe/Berlin:20260221T180000
DTEND;TZID=Europe/Berlin:20260221T190000
DTSTAMP:20260420T105445
CREATED:20251126T083906Z
LAST-MODIFIED:20260211T083014Z
UID:5976-1771696800-1771700400@www.kirche-tann.de
SUMMARY:Tann - Stadtkirche
DESCRIPTION:
URL:https://www.kirche-tann.de/veranstaltung/tann-niklaskirche-8/
LOCATION:Niklaskirche Tann\, Niklaskirche\, Tann\, Hessen\, 36142\, Deutschland
CATEGORIES:Gottesdienst
ATTACH;FMTTYPE=image/jpeg:https://www.kirche-tann.de/wp-content/uploads/2026/01/622115307_920655847287522_949273325031793732_n.jpg
END:VEVENT
BEGIN:VEVENT
DTSTART;TZID=Europe/Berlin:20260222T090000
DTEND;TZID=Europe/Berlin:20260222T100000
DTSTAMP:20260420T105445
CREATED:20251126T083745Z
LAST-MODIFIED:20251126T083745Z
UID:5972-1771750800-1771754400@www.kirche-tann.de
SUMMARY:Habel
DESCRIPTION:Gottesdienst in Habel mit Pfarrer Klaus-Dieter Inerle
URL:https://www.kirche-tann.de/veranstaltung/habel-16/
LOCATION:Kirche Habel\, Kirchweg\, Habel\, Hessen\, 36142\, Deutschland
CATEGORIES:Gottesdienst
ATTACH;FMTTYPE=image/jpeg:https://www.kirche-tann.de/wp-content/uploads/2022/11/Kirche-Tann_Kirchen_Kirche-Habel-scaled.jpg
END:VEVENT
BEGIN:VEVENT
DTSTART;TZID=Europe/Berlin:20260222T100000
DTEND;TZID=Europe/Berlin:20260222T110000
DTSTAMP:20260420T105445
CREATED:20251126T083715Z
LAST-MODIFIED:20260211T083036Z
UID:5970-1771754400-1771758000@www.kirche-tann.de
SUMMARY:Theobaldshof
DESCRIPTION:Gottesdienst in Theobaldshof mit Lektor Heiner Kirchner
URL:https://www.kirche-tann.de/veranstaltung/theobaldshof-10/
LOCATION:Kirche Theobaldshof\, Friedhof Theobaldshof\, Theobaldshof\, Hessen\, 36142\, Deutschland
CATEGORIES:Gottesdienst
ATTACH;FMTTYPE=image/jpeg:https://www.kirche-tann.de/wp-content/uploads/2022/11/Kirche-Tann_Kirchen_Kirche-Theobaldshof-scaled.jpg
END:VEVENT
BEGIN:VEVENT
DTSTART;TZID=Europe/Berlin:20260222T100000
DTEND;TZID=Europe/Berlin:20260222T110000
DTSTAMP:20260420T105445
CREATED:20251126T083819Z
LAST-MODIFIED:20260122T140911Z
UID:5974-1771754400-1771758000@www.kirche-tann.de
SUMMARY:Neuswarts
DESCRIPTION:Gottesdienst in Neuswarts mit Taufe – Pfarrer Klaus-Dieter Inerle \n 
URL:https://www.kirche-tann.de/veranstaltung/neuswarts-13/
LOCATION:Kirche Neuswarts\, Thüringer Str. 14-20\, Neuswarts\, Hessen\, 36142\, Deutschland
CATEGORIES:Gottesdienst
ATTACH;FMTTYPE=image/jpeg:https://www.kirche-tann.de/wp-content/uploads/2022/11/Kirche-Tann_Kirchen_Kirche-Neuswarts_Galerie-9.jpg
END:VEVENT
END:VCALENDAR