BEGIN:VCALENDAR
VERSION:2.0
PRODID:-//evangelische Kirchengemeinde Tann - ECPv6.15.20//NONSGML v1.0//EN
CALSCALE:GREGORIAN
METHOD:PUBLISH
X-ORIGINAL-URL:https://www.kirche-tann.de
X-WR-CALDESC:Veranstaltungen für evangelische Kirchengemeinde Tann
REFRESH-INTERVAL;VALUE=DURATION:PT1H
X-Robots-Tag:noindex
X-PUBLISHED-TTL:PT1H
BEGIN:VTIMEZONE
TZID:Europe/Berlin
BEGIN:DAYLIGHT
TZOFFSETFROM:+0100
TZOFFSETTO:+0200
TZNAME:CEST
DTSTART:20240331T010000
END:DAYLIGHT
BEGIN:STANDARD
TZOFFSETFROM:+0200
TZOFFSETTO:+0100
TZNAME:CET
DTSTART:20241027T010000
END:STANDARD
BEGIN:DAYLIGHT
TZOFFSETFROM:+0100
TZOFFSETTO:+0200
TZNAME:CEST
DTSTART:20250330T010000
END:DAYLIGHT
BEGIN:STANDARD
TZOFFSETFROM:+0200
TZOFFSETTO:+0100
TZNAME:CET
DTSTART:20251026T010000
END:STANDARD
BEGIN:DAYLIGHT
TZOFFSETFROM:+0100
TZOFFSETTO:+0200
TZNAME:CEST
DTSTART:20260329T010000
END:DAYLIGHT
BEGIN:STANDARD
TZOFFSETFROM:+0200
TZOFFSETTO:+0100
TZNAME:CET
DTSTART:20261025T010000
END:STANDARD
END:VTIMEZONE
BEGIN:VEVENT
DTSTART;TZID=Europe/Berlin:20250601T090000
DTEND;TZID=Europe/Berlin:20250601T100000
DTSTAMP:20260425T124455
CREATED:20250416T091440Z
LAST-MODIFIED:20250416T091440Z
UID:5485-1748768400-1748772000@www.kirche-tann.de
SUMMARY:Theobaldshof
DESCRIPTION:Gottesdienst in Theobaldshof mit Pfarrerin Natascha Weigelt
URL:https://www.kirche-tann.de/veranstaltung/theobaldshof-24/
LOCATION:Kirche Theobaldshof\, Friedhof Theobaldshof\, Theobaldshof\, Hessen\, 36142\, Deutschland
CATEGORIES:Gottesdienst
ATTACH;FMTTYPE=image/jpeg:https://www.kirche-tann.de/wp-content/uploads/2022/11/Kirche-Tann_Kirchen_Kirche-Theobaldshof-scaled.jpg
END:VEVENT
BEGIN:VEVENT
DTSTART;TZID=Europe/Berlin:20250601T100000
DTEND;TZID=Europe/Berlin:20250601T110000
DTSTAMP:20260425T124455
CREATED:20250416T091513Z
LAST-MODIFIED:20250520T084816Z
UID:5487-1748772000-1748775600@www.kirche-tann.de
SUMMARY:Tann
DESCRIPTION:Gottesdienst in Tann mit Lektor Heiner Kirchner
URL:https://www.kirche-tann.de/veranstaltung/tann-17/
LOCATION:Stadtkirche Tann\, Stadtkirche\, Tann (Rhön)\, Hessen\, 36142\, Deutschland
CATEGORIES:Gottesdienst
ATTACH;FMTTYPE=image/jpeg:https://www.kirche-tann.de/wp-content/uploads/2022/11/Kirche-Tann_Kirchen_Stadtkirche_Galerie-19-scaled.jpg
END:VEVENT
BEGIN:VEVENT
DTSTART;TZID=Europe/Berlin:20250601T110000
DTEND;TZID=Europe/Berlin:20250601T120000
DTSTAMP:20260425T124455
CREATED:20250416T091349Z
LAST-MODIFIED:20250416T091349Z
UID:5483-1748775600-1748779200@www.kirche-tann.de
SUMMARY:Neuswarts
DESCRIPTION:Gottesdienst in Neuswarts mit Pfarrerin Heike Dietrich \n 
URL:https://www.kirche-tann.de/veranstaltung/neuswarts/
LOCATION:Kirche Neuswarts\, Thüringer Str. 14-20\, Neuswarts\, Hessen\, 36142\, Deutschland
CATEGORIES:Gottesdienst
ATTACH;FMTTYPE=image/jpeg:https://www.kirche-tann.de/wp-content/uploads/2022/11/Kirche-Tann_Kirchen_Kirche-Neuswarts_Galerie-9.jpg
END:VEVENT
BEGIN:VEVENT
DTSTART;TZID=Europe/Berlin:20250608T090000
DTEND;TZID=Europe/Berlin:20250608T100000
DTSTAMP:20260425T124455
CREATED:20250416T091620Z
LAST-MODIFIED:20250416T091620Z
UID:5489-1749373200-1749376800@www.kirche-tann.de
SUMMARY:Habel
DESCRIPTION:Gottesdienst an Pfingstsonntag in Habel mit Pfarrer Klaus-Dieter Inerle
URL:https://www.kirche-tann.de/veranstaltung/habel-2/
LOCATION:Kirche Habel\, Kirchweg\, Habel\, Hessen\, 36142\, Deutschland
CATEGORIES:Gottesdienst
ATTACH;FMTTYPE=image/jpeg:https://www.kirche-tann.de/wp-content/uploads/2022/11/Kirche-Tann_Kirchen_Kirche-Habel-scaled.jpg
END:VEVENT
BEGIN:VEVENT
DTSTART;TZID=Europe/Berlin:20250608T090000
DTEND;TZID=Europe/Berlin:20250608T100000
DTSTAMP:20260425T124455
CREATED:20250416T091654Z
LAST-MODIFIED:20250416T091834Z
UID:5491-1749373200-1749376800@www.kirche-tann.de
SUMMARY:Theobaldshof
DESCRIPTION:Gottesdienst an Pfingstsonntag in Theobaldshof mit Pfarrerin Natascha Weigelt
URL:https://www.kirche-tann.de/veranstaltung/theobaldshof-25/
LOCATION:Kirche Theobaldshof\, Friedhof Theobaldshof\, Theobaldshof\, Hessen\, 36142\, Deutschland
CATEGORIES:Gottesdienst
ATTACH;FMTTYPE=image/jpeg:https://www.kirche-tann.de/wp-content/uploads/2022/11/Kirche-Tann_Kirchen_Kirche-Theobaldshof-scaled.jpg
END:VEVENT
BEGIN:VEVENT
DTSTART;TZID=Europe/Berlin:20250608T100000
DTEND;TZID=Europe/Berlin:20250608T110000
DTSTAMP:20260425T124455
CREATED:20250416T091735Z
LAST-MODIFIED:20250416T091806Z
UID:5493-1749376800-1749380400@www.kirche-tann.de
SUMMARY:Tann
DESCRIPTION:Gottesdienst an Pfingstsonntag in Tann mit Pfarrer Klaus-Dieter Inerle
URL:https://www.kirche-tann.de/veranstaltung/tann-18/
LOCATION:Stadtkirche Tann\, Stadtkirche\, Tann (Rhön)\, Hessen\, 36142\, Deutschland
CATEGORIES:Gottesdienst
ATTACH;FMTTYPE=image/jpeg:https://www.kirche-tann.de/wp-content/uploads/2022/11/Kirche-Tann_Kirchen_Stadtkirche_Galerie-19-scaled.jpg
END:VEVENT
BEGIN:VEVENT
DTSTART;TZID=Europe/Berlin:20250608T110000
DTEND;TZID=Europe/Berlin:20250608T120000
DTSTAMP:20260425T124455
CREATED:20250416T091914Z
LAST-MODIFIED:20250416T091914Z
UID:5496-1749380400-1749384000@www.kirche-tann.de
SUMMARY:Neuswarts
DESCRIPTION:Gottesdienst an Pfingstsonntag in Neuswarts mit Pfarrer Klaus-Dieter Inerle \n 
URL:https://www.kirche-tann.de/veranstaltung/neuswarts-2/
LOCATION:Kirche Neuswarts\, Thüringer Str. 14-20\, Neuswarts\, Hessen\, 36142\, Deutschland
CATEGORIES:Gottesdienst
ATTACH;FMTTYPE=image/jpeg:https://www.kirche-tann.de/wp-content/uploads/2022/11/Kirche-Tann_Kirchen_Kirche-Neuswarts_Galerie-9.jpg
END:VEVENT
BEGIN:VEVENT
DTSTART;TZID=Europe/Berlin:20250609T101500
DTEND;TZID=Europe/Berlin:20250609T110000
DTSTAMP:20260425T124455
CREATED:20250416T092123Z
LAST-MODIFIED:20250416T092123Z
UID:5498-1749464100-1749466800@www.kirche-tann.de
SUMMARY:Hilders - Nachbarschaftsgottesdienst an Pfingstmontag
DESCRIPTION:Nachbarschafts-Gottesdienst an Pfingstmontag in Hilders
URL:https://www.kirche-tann.de/veranstaltung/hilders-nachbarschaftsgottesdienst-an-pfingstmontag/
LOCATION:Hilders
CATEGORIES:Gottesdienst
ATTACH;FMTTYPE=image/jpeg:https://www.kirche-tann.de/wp-content/uploads/2022/12/Kirche-Tann_Hintergrundbild_Himmel-scaled-1.jpeg
END:VEVENT
BEGIN:VEVENT
DTSTART;TZID=Europe/Berlin:20250615T090000
DTEND;TZID=Europe/Berlin:20250615T100000
DTSTAMP:20260425T124455
CREATED:20250416T092223Z
LAST-MODIFIED:20250520T085043Z
UID:5500-1749978000-1749981600@www.kirche-tann.de
SUMMARY:Habel
DESCRIPTION:Gottesdienst in Habel mit dem Kindergarten Wendershausen und Pfarrer Klaus-Dieter Inerle
URL:https://www.kirche-tann.de/veranstaltung/habel-3/
LOCATION:Kirche Habel\, Kirchweg\, Habel\, Hessen\, 36142\, Deutschland
CATEGORIES:Gottesdienst
ATTACH;FMTTYPE=image/jpeg:https://www.kirche-tann.de/wp-content/uploads/2025/04/Plakat-15.-Juni-25-Habel-scaled.jpg
END:VEVENT
BEGIN:VEVENT
DTSTART;TZID=Europe/Berlin:20250615T100000
DTEND;TZID=Europe/Berlin:20250615T110000
DTSTAMP:20260425T124455
CREATED:20250416T092306Z
LAST-MODIFIED:20250520T085128Z
UID:5502-1749981600-1749985200@www.kirche-tann.de
SUMMARY:Tann
DESCRIPTION:Gottesdienst in Tann mit Pfarrer Klaus-Dieter Inerle
URL:https://www.kirche-tann.de/veranstaltung/tann-19/
LOCATION:Stadtkirche Tann\, Stadtkirche\, Tann (Rhön)\, Hessen\, 36142\, Deutschland
CATEGORIES:Gottesdienst
ATTACH;FMTTYPE=image/jpeg:https://www.kirche-tann.de/wp-content/uploads/2022/11/Kirche-Tann_Kirchen_Stadtkirche_Galerie-19-scaled.jpg
END:VEVENT
BEGIN:VEVENT
DTSTART;TZID=Europe/Berlin:20250615T110000
DTEND;TZID=Europe/Berlin:20250615T120000
DTSTAMP:20260425T124455
CREATED:20250416T092346Z
LAST-MODIFIED:20250605T134353Z
UID:5504-1749985200-1749988800@www.kirche-tann.de
SUMMARY:Günthers
DESCRIPTION:Gottesdienst zum Dorffest in Günthers mit Pfarrer Klaus-Dieter Inerle \n 
URL:https://www.kirche-tann.de/veranstaltung/guenthers/
LOCATION:Günthers\, Günthers\, Hessen\, 36142\, Deutschland
CATEGORIES:Gottesdienst
ATTACH;FMTTYPE=image/jpeg:https://www.kirche-tann.de/wp-content/uploads/2022/11/Kirche-Tann_Hintergrundbild_Himmel-scaled.jpeg
END:VEVENT
BEGIN:VEVENT
DTSTART;TZID=Europe/Berlin:20250622T100000
DTEND;TZID=Europe/Berlin:20250622T110000
DTSTAMP:20260425T124455
CREATED:20250416T092627Z
LAST-MODIFIED:20250612T153128Z
UID:5506-1750586400-1750590000@www.kirche-tann.de
SUMMARY:Tann
DESCRIPTION:Gottesdienst in Tann Begrüßung der neuen Konfirmandinnen und Konfirmanden. Pfarrer Klaus-Dieter Inerle und Pröpstin Kropf-Brandau mit anschließendem Spendenlauf um die Stadtkirche
URL:https://www.kirche-tann.de/veranstaltung/tann-20/
LOCATION:Stadtkirche Tann\, Stadtkirche\, Tann (Rhön)\, Hessen\, 36142\, Deutschland
CATEGORIES:Gottesdienst
ATTACH;FMTTYPE=image/jpeg:https://www.kirche-tann.de/wp-content/uploads/2022/11/Kirche-Tann_Kirchen_Stadtkirche_Galerie-19-scaled.jpg
END:VEVENT
BEGIN:VEVENT
DTSTART;TZID=Europe/Berlin:20250629T100000
DTEND;TZID=Europe/Berlin:20250629T110000
DTSTAMP:20260425T124455
CREATED:20250416T092819Z
LAST-MODIFIED:20250416T092819Z
UID:5508-1751191200-1751194800@www.kirche-tann.de
SUMMARY:Tauffest im Kooperationsraum Rhön
DESCRIPTION:Tauffest im Kooperationsraum Rhön am Guckaisee
URL:https://www.kirche-tann.de/veranstaltung/tauffest-im-kooperationsraum-rhoen/
LOCATION:Guckaisee
CATEGORIES:Gottesdienst
ATTACH;FMTTYPE=image/jpeg:https://www.kirche-tann.de/wp-content/uploads/2022/11/Kirche-Tann_Hintergrundbild_Himmel-scaled.jpeg
END:VEVENT
END:VCALENDAR