BEGIN:VCALENDAR
VERSION:2.0
PRODID:-//evangelische Kirchengemeinde Tann - ECPv6.15.20//NONSGML v1.0//EN
CALSCALE:GREGORIAN
METHOD:PUBLISH
X-WR-CALNAME:evangelische Kirchengemeinde Tann
X-ORIGINAL-URL:https://www.kirche-tann.de
X-WR-CALDESC:Veranstaltungen für evangelische Kirchengemeinde Tann
REFRESH-INTERVAL;VALUE=DURATION:PT1H
X-Robots-Tag:noindex
X-PUBLISHED-TTL:PT1H
BEGIN:VTIMEZONE
TZID:Europe/Berlin
BEGIN:DAYLIGHT
TZOFFSETFROM:+0100
TZOFFSETTO:+0200
TZNAME:CEST
DTSTART:20250330T010000
END:DAYLIGHT
BEGIN:STANDARD
TZOFFSETFROM:+0200
TZOFFSETTO:+0100
TZNAME:CET
DTSTART:20251026T010000
END:STANDARD
BEGIN:DAYLIGHT
TZOFFSETFROM:+0100
TZOFFSETTO:+0200
TZNAME:CEST
DTSTART:20260329T010000
END:DAYLIGHT
BEGIN:STANDARD
TZOFFSETFROM:+0200
TZOFFSETTO:+0100
TZNAME:CET
DTSTART:20261025T010000
END:STANDARD
BEGIN:DAYLIGHT
TZOFFSETFROM:+0100
TZOFFSETTO:+0200
TZNAME:CEST
DTSTART:20270328T010000
END:DAYLIGHT
BEGIN:STANDARD
TZOFFSETFROM:+0200
TZOFFSETTO:+0100
TZNAME:CET
DTSTART:20271031T010000
END:STANDARD
END:VTIMEZONE
BEGIN:VEVENT
DTSTART;TZID=Europe/Berlin:20260525T101500
DTEND;TZID=Europe/Berlin:20260525T110000
DTSTAMP:20260420T105323
CREATED:20260313T081233Z
LAST-MODIFIED:20260313T081233Z
UID:6308-1779704100-1779706800@www.kirche-tann.de
SUMMARY:Hilders - Nachbarschaftsgottesdienst an Pfingstmontag
DESCRIPTION:Gottesdienst in Hilders mit Pfarrerin Natascha Weigelt
URL:https://www.kirche-tann.de/veranstaltung/hilders-nachbarschaftsgottesdienst-an-pfingstmontag-2/
LOCATION:Hilders
CATEGORIES:Gottesdienst
ATTACH;FMTTYPE=image/jpeg:https://www.kirche-tann.de/wp-content/uploads/2022/12/Kirche-Tann_Hintergrundbild_Himmel-scaled-1.jpeg
END:VEVENT
END:VCALENDAR