BEGIN:VCALENDAR
VERSION:2.0
PRODID:-//evangelische Kirchengemeinde Tann - ECPv6.15.20//NONSGML v1.0//EN
CALSCALE:GREGORIAN
METHOD:PUBLISH
X-WR-CALNAME:evangelische Kirchengemeinde Tann
X-ORIGINAL-URL:https://www.kirche-tann.de
X-WR-CALDESC:Veranstaltungen für evangelische Kirchengemeinde Tann
REFRESH-INTERVAL;VALUE=DURATION:PT1H
X-Robots-Tag:noindex
X-PUBLISHED-TTL:PT1H
BEGIN:VTIMEZONE
TZID:Europe/Berlin
BEGIN:DAYLIGHT
TZOFFSETFROM:+0100
TZOFFSETTO:+0200
TZNAME:CEST
DTSTART:20250330T010000
END:DAYLIGHT
BEGIN:STANDARD
TZOFFSETFROM:+0200
TZOFFSETTO:+0100
TZNAME:CET
DTSTART:20251026T010000
END:STANDARD
BEGIN:DAYLIGHT
TZOFFSETFROM:+0100
TZOFFSETTO:+0200
TZNAME:CEST
DTSTART:20260329T010000
END:DAYLIGHT
BEGIN:STANDARD
TZOFFSETFROM:+0200
TZOFFSETTO:+0100
TZNAME:CET
DTSTART:20261025T010000
END:STANDARD
BEGIN:DAYLIGHT
TZOFFSETFROM:+0100
TZOFFSETTO:+0200
TZNAME:CEST
DTSTART:20270328T010000
END:DAYLIGHT
BEGIN:STANDARD
TZOFFSETFROM:+0200
TZOFFSETTO:+0100
TZNAME:CET
DTSTART:20271031T010000
END:STANDARD
END:VTIMEZONE
BEGIN:VEVENT
DTSTART;TZID=Europe/Berlin:20260314T180000
DTEND;TZID=Europe/Berlin:20260314T190000
DTSTAMP:20260420T105344
CREATED:20251126T084337Z
LAST-MODIFIED:20251126T084337Z
UID:5986-1773511200-1773514800@www.kirche-tann.de
SUMMARY:Theobaldshof
DESCRIPTION:Vorabend-Gottesdienst in Theobaldshof mit Lektor Heiner Kirchner
URL:https://www.kirche-tann.de/veranstaltung/theobaldshof-11/
LOCATION:Kirche Theobaldshof\, Friedhof Theobaldshof\, Theobaldshof\, Hessen\, 36142\, Deutschland
CATEGORIES:Gottesdienst
ATTACH;FMTTYPE=image/jpeg:https://www.kirche-tann.de/wp-content/uploads/2022/11/Kirche-Tann_Kirchen_Kirche-Theobaldshof-scaled.jpg
END:VEVENT
BEGIN:VEVENT
DTSTART;TZID=Europe/Berlin:20260314T190000
DTEND;TZID=Europe/Berlin:20260314T200000
DTSTAMP:20260420T105344
CREATED:20251126T084407Z
LAST-MODIFIED:20251126T084407Z
UID:5988-1773514800-1773518400@www.kirche-tann.de
SUMMARY:Neuswarts
DESCRIPTION:Vorabend-Gottesdienst in Neuswarts mit Lektor Heiner Kirchner \n 
URL:https://www.kirche-tann.de/veranstaltung/neuswarts-15/
LOCATION:Kirche Neuswarts\, Thüringer Str. 14-20\, Neuswarts\, Hessen\, 36142\, Deutschland
CATEGORIES:Gottesdienst
ATTACH;FMTTYPE=image/jpeg:https://www.kirche-tann.de/wp-content/uploads/2022/11/Kirche-Tann_Kirchen_Kirche-Neuswarts_Galerie-9.jpg
END:VEVENT
END:VCALENDAR