BEGIN:VCALENDAR
VERSION:2.0
PRODID:-//evangelische Kirchengemeinde Tann - ECPv6.15.20//NONSGML v1.0//EN
CALSCALE:GREGORIAN
METHOD:PUBLISH
X-WR-CALNAME:evangelische Kirchengemeinde Tann
X-ORIGINAL-URL:https://www.kirche-tann.de
X-WR-CALDESC:Veranstaltungen für evangelische Kirchengemeinde Tann
REFRESH-INTERVAL;VALUE=DURATION:PT1H
X-Robots-Tag:noindex
X-PUBLISHED-TTL:PT1H
BEGIN:VTIMEZONE
TZID:Europe/Berlin
BEGIN:DAYLIGHT
TZOFFSETFROM:+0100
TZOFFSETTO:+0200
TZNAME:CEST
DTSTART:20250330T010000
END:DAYLIGHT
BEGIN:STANDARD
TZOFFSETFROM:+0200
TZOFFSETTO:+0100
TZNAME:CET
DTSTART:20251026T010000
END:STANDARD
BEGIN:DAYLIGHT
TZOFFSETFROM:+0100
TZOFFSETTO:+0200
TZNAME:CEST
DTSTART:20260329T010000
END:DAYLIGHT
BEGIN:STANDARD
TZOFFSETFROM:+0200
TZOFFSETTO:+0100
TZNAME:CET
DTSTART:20261025T010000
END:STANDARD
BEGIN:DAYLIGHT
TZOFFSETFROM:+0100
TZOFFSETTO:+0200
TZNAME:CEST
DTSTART:20270328T010000
END:DAYLIGHT
BEGIN:STANDARD
TZOFFSETFROM:+0200
TZOFFSETTO:+0100
TZNAME:CET
DTSTART:20271031T010000
END:STANDARD
END:VTIMEZONE
BEGIN:VEVENT
DTSTART;TZID=Europe/Berlin:20260118T090000
DTEND;TZID=Europe/Berlin:20260118T100000
DTSTAMP:20260421T194813
CREATED:20251030T145046Z
LAST-MODIFIED:20251030T145046Z
UID:5885-1768726800-1768730400@www.kirche-tann.de
SUMMARY:Theobaldshof
DESCRIPTION:Gottesdienst in Theobaldshof mit Lektor Heiner Kirchner
URL:https://www.kirche-tann.de/veranstaltung/theobaldshof-8/
LOCATION:Kirche Theobaldshof\, Friedhof Theobaldshof\, Theobaldshof\, Hessen\, 36142\, Deutschland
CATEGORIES:Gottesdienst
ATTACH;FMTTYPE=image/jpeg:https://www.kirche-tann.de/wp-content/uploads/2022/11/Kirche-Tann_Kirchen_Kirche-Theobaldshof-scaled.jpg
END:VEVENT
BEGIN:VEVENT
DTSTART;TZID=Europe/Berlin:20260118T100000
DTEND;TZID=Europe/Berlin:20260118T110000
DTSTAMP:20260421T194813
CREATED:20251030T145133Z
LAST-MODIFIED:20251030T145133Z
UID:5887-1768730400-1768734000@www.kirche-tann.de
SUMMARY:Tann - Niklaskirche
DESCRIPTION:Gottesdienst in der Niklaskirche Tann mit Lektor Heiner Kirchner
URL:https://www.kirche-tann.de/veranstaltung/tann-niklaskirche-4/
LOCATION:Niklaskirche Tann\, Niklaskirche\, Tann\, Hessen\, 36142\, Deutschland
CATEGORIES:Gottesdienst
ATTACH;FMTTYPE=image/jpeg:https://www.kirche-tann.de/wp-content/uploads/2022/11/Kirche-Tann_Kirchen_Niklaskirche_Galerie-3-scaled.jpg
END:VEVENT
END:VCALENDAR