BEGIN:VCALENDAR
VERSION:2.0
PRODID:-//evangelische Kirchengemeinde Tann - ECPv6.15.20//NONSGML v1.0//EN
CALSCALE:GREGORIAN
METHOD:PUBLISH
X-WR-CALNAME:evangelische Kirchengemeinde Tann
X-ORIGINAL-URL:https://www.kirche-tann.de
X-WR-CALDESC:Veranstaltungen für evangelische Kirchengemeinde Tann
REFRESH-INTERVAL;VALUE=DURATION:PT1H
X-Robots-Tag:noindex
X-PUBLISHED-TTL:PT1H
BEGIN:VTIMEZONE
TZID:Europe/Berlin
BEGIN:DAYLIGHT
TZOFFSETFROM:+0100
TZOFFSETTO:+0200
TZNAME:CEST
DTSTART:20250330T010000
END:DAYLIGHT
BEGIN:STANDARD
TZOFFSETFROM:+0200
TZOFFSETTO:+0100
TZNAME:CET
DTSTART:20251026T010000
END:STANDARD
BEGIN:DAYLIGHT
TZOFFSETFROM:+0100
TZOFFSETTO:+0200
TZNAME:CEST
DTSTART:20260329T010000
END:DAYLIGHT
BEGIN:STANDARD
TZOFFSETFROM:+0200
TZOFFSETTO:+0100
TZNAME:CET
DTSTART:20261025T010000
END:STANDARD
BEGIN:DAYLIGHT
TZOFFSETFROM:+0100
TZOFFSETTO:+0200
TZNAME:CEST
DTSTART:20270328T010000
END:DAYLIGHT
BEGIN:STANDARD
TZOFFSETFROM:+0200
TZOFFSETTO:+0100
TZNAME:CET
DTSTART:20271031T010000
END:STANDARD
END:VTIMEZONE
BEGIN:VEVENT
DTSTART;TZID=Europe/Berlin:20260111T100000
DTEND;TZID=Europe/Berlin:20260111T110000
DTSTAMP:20260422T085028
CREATED:20251202T115316Z
LAST-MODIFIED:20251202T115316Z
UID:6055-1768125600-1768129200@www.kirche-tann.de
SUMMARY:Tann - Stadtkirche
DESCRIPTION:Verabschiedung von Pfarrerin Heike Dietrich \nGottesdienst in der Stadtkirche Tann mit Pfarrerin Heike Dietrich\, Dekan Dr. Thorsten Waap\, Pfarrer Klaus-Dieter Inerle
URL:https://www.kirche-tann.de/veranstaltung/tann-stadtkirche-8/
LOCATION:Stadtkirche Tann\, Stadtkirche\, Tann (Rhön)\, Hessen\, 36142\, Deutschland
CATEGORIES:Gottesdienst
ATTACH;FMTTYPE=image/jpeg:https://www.kirche-tann.de/wp-content/uploads/2022/11/Kirche-Tann_Kirchen_Stadtkirche_Galerie-19-scaled.jpg
END:VEVENT
BEGIN:VEVENT
DTSTART;TZID=Europe/Berlin:20260111T140000
DTEND;TZID=Europe/Berlin:20260111T150000
DTSTAMP:20260422T085028
CREATED:20251030T144554Z
LAST-MODIFIED:20251217T084240Z
UID:5881-1768140000-1768143600@www.kirche-tann.de
SUMMARY:Habel - Neujahrskonzert
DESCRIPTION:Neujahrskonzert in Habel
URL:https://www.kirche-tann.de/veranstaltung/habel-neujahrskonzert/
LOCATION:Kirche Habel\, Kirchweg\, Habel\, Hessen\, 36142\, Deutschland
CATEGORIES:Gottesdienst
ATTACH;FMTTYPE=image/jpeg:https://www.kirche-tann.de/wp-content/uploads/2025/11/Neujahrskonzert-Habel-11.1.-aktuell-scaled.jpg
END:VEVENT
BEGIN:VEVENT
DTSTART;TZID=Europe/Berlin:20260111T180000
DTEND;TZID=Europe/Berlin:20260111T190000
DTSTAMP:20260422T085028
CREATED:20251030T144658Z
LAST-MODIFIED:20251126T082457Z
UID:5883-1768154400-1768158000@www.kirche-tann.de
SUMMARY:Tann - Niklaskirche - Eröffnung Allianz-Gebetswoche
DESCRIPTION:Gottesdienst zur Eröffnung der Allianz-Gebetswoche in der Niklaskirche Tann mit Pfarrer Klaus-Dieter Inerle und Lektoren Fischer
URL:https://www.kirche-tann.de/veranstaltung/tann-niklaskirche-eroeffnung-allianz-gebetswoche/
LOCATION:Niklaskirche Tann\, Niklaskirche\, Tann\, Hessen\, 36142\, Deutschland
CATEGORIES:Gottesdienst
ATTACH;FMTTYPE=image/jpeg:https://www.kirche-tann.de/wp-content/uploads/2022/11/Kirche-Tann_Kirchen_Niklaskirche_Galerie-3-scaled.jpg
END:VEVENT
END:VCALENDAR