BEGIN:VCALENDAR
VERSION:2.0
PRODID:-//evangelische Kirchengemeinde Tann - ECPv6.15.20//NONSGML v1.0//EN
CALSCALE:GREGORIAN
METHOD:PUBLISH
X-ORIGINAL-URL:https://www.kirche-tann.de
X-WR-CALDESC:Veranstaltungen für evangelische Kirchengemeinde Tann
REFRESH-INTERVAL;VALUE=DURATION:PT1H
X-Robots-Tag:noindex
X-PUBLISHED-TTL:PT1H
BEGIN:VTIMEZONE
TZID:Europe/Berlin
BEGIN:DAYLIGHT
TZOFFSETFROM:+0100
TZOFFSETTO:+0200
TZNAME:CEST
DTSTART:20240331T010000
END:DAYLIGHT
BEGIN:STANDARD
TZOFFSETFROM:+0200
TZOFFSETTO:+0100
TZNAME:CET
DTSTART:20241027T010000
END:STANDARD
BEGIN:DAYLIGHT
TZOFFSETFROM:+0100
TZOFFSETTO:+0200
TZNAME:CEST
DTSTART:20250330T010000
END:DAYLIGHT
BEGIN:STANDARD
TZOFFSETFROM:+0200
TZOFFSETTO:+0100
TZNAME:CET
DTSTART:20251026T010000
END:STANDARD
BEGIN:DAYLIGHT
TZOFFSETFROM:+0100
TZOFFSETTO:+0200
TZNAME:CEST
DTSTART:20260329T010000
END:DAYLIGHT
BEGIN:STANDARD
TZOFFSETFROM:+0200
TZOFFSETTO:+0100
TZNAME:CET
DTSTART:20261025T010000
END:STANDARD
END:VTIMEZONE
BEGIN:VEVENT
DTSTART;TZID=Europe/Berlin:20250720T100000
DTEND;TZID=Europe/Berlin:20250720T110000
DTSTAMP:20260425T124333
CREATED:20250416T094235Z
LAST-MODIFIED:20250416T094235Z
UID:5523-1753005600-1753009200@www.kirche-tann.de
SUMMARY:Tann
DESCRIPTION:Gottesdienst in Tann mit dem Männer-Projektchor „Man(n) singt!“ – Pfarrer Klaus-Dieter Inerle
URL:https://www.kirche-tann.de/veranstaltung/tann-23/
LOCATION:Stadtkirche Tann\, Stadtkirche\, Tann (Rhön)\, Hessen\, 36142\, Deutschland
CATEGORIES:Gottesdienst
ATTACH;FMTTYPE=image/jpeg:https://www.kirche-tann.de/wp-content/uploads/2022/11/Kirche-Tann_Kirchen_Stadtkirche_Galerie-19-scaled.jpg
END:VEVENT
BEGIN:VEVENT
DTSTART;TZID=Europe/Berlin:20250720T100000
DTEND;TZID=Europe/Berlin:20250720T110000
DTSTAMP:20260425T124333
CREATED:20250701T083031Z
LAST-MODIFIED:20250701T083031Z
UID:5605-1753005600-1753009200@www.kirche-tann.de
SUMMARY:Neuswarts
DESCRIPTION:Gottesdienst anlässlich des Sportfestes in Neuswarts mit Pfarrerin Heike Dietrich \n 
URL:https://www.kirche-tann.de/veranstaltung/neuswarts-5/
LOCATION:Kirche Neuswarts\, Thüringer Str. 14-20\, Neuswarts\, Hessen\, 36142\, Deutschland
CATEGORIES:Gottesdienst
ATTACH;FMTTYPE=image/jpeg:https://www.kirche-tann.de/wp-content/uploads/2022/11/Kirche-Tann_Kirchen_Kirche-Neuswarts_Galerie-9.jpg
END:VEVENT
END:VCALENDAR