BEGIN:VCALENDAR
VERSION:2.0
PRODID:-//evangelische Kirchengemeinde Tann - ECPv6.15.20//NONSGML v1.0//EN
CALSCALE:GREGORIAN
METHOD:PUBLISH
X-WR-CALNAME:evangelische Kirchengemeinde Tann
X-ORIGINAL-URL:https://www.kirche-tann.de
X-WR-CALDESC:Veranstaltungen für evangelische Kirchengemeinde Tann
REFRESH-INTERVAL;VALUE=DURATION:PT1H
X-Robots-Tag:noindex
X-PUBLISHED-TTL:PT1H
BEGIN:VTIMEZONE
TZID:Europe/Berlin
BEGIN:DAYLIGHT
TZOFFSETFROM:+0100
TZOFFSETTO:+0200
TZNAME:CEST
DTSTART:20240331T010000
END:DAYLIGHT
BEGIN:STANDARD
TZOFFSETFROM:+0200
TZOFFSETTO:+0100
TZNAME:CET
DTSTART:20241027T010000
END:STANDARD
BEGIN:DAYLIGHT
TZOFFSETFROM:+0100
TZOFFSETTO:+0200
TZNAME:CEST
DTSTART:20250330T010000
END:DAYLIGHT
BEGIN:STANDARD
TZOFFSETFROM:+0200
TZOFFSETTO:+0100
TZNAME:CET
DTSTART:20251026T010000
END:STANDARD
BEGIN:DAYLIGHT
TZOFFSETFROM:+0100
TZOFFSETTO:+0200
TZNAME:CEST
DTSTART:20260329T010000
END:DAYLIGHT
BEGIN:STANDARD
TZOFFSETFROM:+0200
TZOFFSETTO:+0100
TZNAME:CET
DTSTART:20261025T010000
END:STANDARD
END:VTIMEZONE
BEGIN:VEVENT
DTSTART;TZID=Europe/Berlin:20250511T090000
DTEND;TZID=Europe/Berlin:20250511T100000
DTSTAMP:20260425T154410
CREATED:20250219T091355Z
LAST-MODIFIED:20250219T091355Z
UID:5398-1746954000-1746957600@www.kirche-tann.de
SUMMARY:Habel
DESCRIPTION:Gottesdienst in Habel mit Pfarrerin Natascha Weigelt
URL:https://www.kirche-tann.de/veranstaltung/habel-33/
LOCATION:Kirche Habel\, Kirchweg\, Habel\, Hessen\, 36142\, Deutschland
CATEGORIES:Gottesdienst
ATTACH;FMTTYPE=image/jpeg:https://www.kirche-tann.de/wp-content/uploads/2022/11/Kirche-Tann_Kirchen_Kirche-Habel-scaled.jpg
END:VEVENT
BEGIN:VEVENT
DTSTART;TZID=Europe/Berlin:20250511T100000
DTEND;TZID=Europe/Berlin:20250511T110000
DTSTAMP:20260425T154410
CREATED:20250128T112702Z
LAST-MODIFIED:20250128T112702Z
UID:5313-1746957600-1746961200@www.kirche-tann.de
SUMMARY:Tann - Stadtkirche - Konfirmation
DESCRIPTION:Konfirmationsgottesdienst in der Stadtkirche Tann mit Pfarrer Klaus-Dieter Inerle \n  \n 
URL:https://www.kirche-tann.de/veranstaltung/tann-stadtkirche-konfirmation/
LOCATION:Stadtkirche Tann\, Stadtkirche\, Tann (Rhön)\, Hessen\, 36142\, Deutschland
CATEGORIES:Gottesdienst
ATTACH;FMTTYPE=image/jpeg:https://www.kirche-tann.de/wp-content/uploads/2022/11/Kirche-Tann_Kirchen_Stadtkirche_Galerie-19-scaled.jpg
END:VEVENT
BEGIN:VEVENT
DTSTART;TZID=Europe/Berlin:20250511T110000
DTEND;TZID=Europe/Berlin:20250511T120000
DTSTAMP:20260425T154410
CREATED:20250219T091543Z
LAST-MODIFIED:20250219T091543Z
UID:5400-1746961200-1746964800@www.kirche-tann.de
SUMMARY:Neuswarts
DESCRIPTION:Gottesdienst in Neuswarts mit Pfarrerin Heike Dietrich \n 
URL:https://www.kirche-tann.de/veranstaltung/neuswarts-24/
LOCATION:Kirche Neuswarts\, Thüringer Str. 14-20\, Neuswarts\, Hessen\, 36142\, Deutschland
CATEGORIES:Gottesdienst
ATTACH;FMTTYPE=image/jpeg:https://www.kirche-tann.de/wp-content/uploads/2022/11/Kirche-Tann_Kirchen_Kirche-Neuswarts_Galerie-9.jpg
END:VEVENT
END:VCALENDAR