BEGIN:VCALENDAR
VERSION:2.0
PRODID:-//evangelische Kirchengemeinde Tann - ECPv6.15.20//NONSGML v1.0//EN
CALSCALE:GREGORIAN
METHOD:PUBLISH
X-ORIGINAL-URL:https://www.kirche-tann.de
X-WR-CALDESC:Veranstaltungen für evangelische Kirchengemeinde Tann
REFRESH-INTERVAL;VALUE=DURATION:PT1H
X-Robots-Tag:noindex
X-PUBLISHED-TTL:PT1H
BEGIN:VTIMEZONE
TZID:Europe/Berlin
BEGIN:DAYLIGHT
TZOFFSETFROM:+0100
TZOFFSETTO:+0200
TZNAME:CEST
DTSTART:20240331T010000
END:DAYLIGHT
BEGIN:STANDARD
TZOFFSETFROM:+0200
TZOFFSETTO:+0100
TZNAME:CET
DTSTART:20241027T010000
END:STANDARD
BEGIN:DAYLIGHT
TZOFFSETFROM:+0100
TZOFFSETTO:+0200
TZNAME:CEST
DTSTART:20250330T010000
END:DAYLIGHT
BEGIN:STANDARD
TZOFFSETFROM:+0200
TZOFFSETTO:+0100
TZNAME:CET
DTSTART:20251026T010000
END:STANDARD
BEGIN:DAYLIGHT
TZOFFSETFROM:+0100
TZOFFSETTO:+0200
TZNAME:CEST
DTSTART:20260329T010000
END:DAYLIGHT
BEGIN:STANDARD
TZOFFSETFROM:+0200
TZOFFSETTO:+0100
TZNAME:CET
DTSTART:20261025T010000
END:STANDARD
END:VTIMEZONE
BEGIN:VEVENT
DTSTART;TZID=Europe/Berlin:20250510T150000
DTEND;TZID=Europe/Berlin:20250510T160000
DTSTAMP:20260425T154732
CREATED:20250219T091007Z
LAST-MODIFIED:20250219T091107Z
UID:5395-1746889200-1746892800@www.kirche-tann.de
SUMMARY:Theobaldshof - Familiengottesdienst
DESCRIPTION:Familien-Gottesdienst in Theobaldshof mit Pfarrer Klaus-Dieter Inerle
URL:https://www.kirche-tann.de/veranstaltung/theobaldshof-23/
LOCATION:Kirche Theobaldshof\, Friedhof Theobaldshof\, Theobaldshof\, Hessen\, 36142\, Deutschland
CATEGORIES:Gottesdienst
ATTACH;FMTTYPE=image/jpeg:https://www.kirche-tann.de/wp-content/uploads/2022/11/Kirche-Tann_Kirchen_Kirche-Theobaldshof-scaled.jpg
END:VEVENT
BEGIN:VEVENT
DTSTART;TZID=Europe/Berlin:20250510T190000
DTEND;TZID=Europe/Berlin:20250510T200000
DTSTAMP:20260425T154732
CREATED:20250128T112829Z
LAST-MODIFIED:20250128T112829Z
UID:5315-1746903600-1746907200@www.kirche-tann.de
SUMMARY:Tann - Stadtkirche - Vorabendgottesdienst zur Konfirmation
DESCRIPTION:Vorabendgottesdienst mit Abendmahl zur Konfirmation in der Stadtkirche Tann mit Pfarrer Klaus-Dieter Inerle \n  \n 
URL:https://www.kirche-tann.de/veranstaltung/tann-stadtkirche-vorabendgottesdienst-zur-konfirmation/
LOCATION:Stadtkirche Tann\, Stadtkirche\, Tann (Rhön)\, Hessen\, 36142\, Deutschland
CATEGORIES:Gottesdienst
ATTACH;FMTTYPE=image/jpeg:https://www.kirche-tann.de/wp-content/uploads/2022/11/Kirche-Tann_Kirchen_Stadtkirche_Galerie-19-scaled.jpg
END:VEVENT
END:VCALENDAR